BEGIN:VCALENDAR
VERSION:2.0
PRODID:-//URDABURU - ECPv5.16.1//NONSGML v1.0//EN
CALSCALE:GREGORIAN
METHOD:PUBLISH
X-WR-CALNAME:URDABURU
X-ORIGINAL-URL:https://urdaburu.eus
X-WR-CALDESC:Events for URDABURU
BEGIN:VTIMEZONE
TZID:Europe/Paris
BEGIN:DAYLIGHT
TZOFFSETFROM:+0100
TZOFFSETTO:+0200
TZNAME:CEST
DTSTART:20260329T010000
END:DAYLIGHT
BEGIN:STANDARD
TZOFFSETFROM:+0200
TZOFFSETTO:+0100
TZNAME:CET
DTSTART:20261025T010000
END:STANDARD
END:VTIMEZONE
BEGIN:VEVENT
DTSTART;VALUE=DATE:20260620
DTEND;VALUE=DATE:20260621
DTSTAMP:20260422T021158
CREATED:20251230T170130Z
LAST-MODIFIED:20251230T170130Z
UID:7980-1781913600-1781999999@urdaburu.eus
SUMMARY:Oarsoaldeko bira: 6.etapa: Añarbe presa-Listorreta
DESCRIPTION:Añarbe presa-Urdaburu (599)-Aizpitarte-Listorreta
URL:https://urdaburu.eus/event/oarsoaldeko-bira-6-etapa-anarbe-presa-listorreta/
CATEGORIES:Mendi Irteerak
END:VEVENT
END:VCALENDAR