BEGIN:VCALENDAR
VERSION:2.0
PRODID:-//Urdaburu - ECPv5.16.1//NONSGML v1.0//EN
CALSCALE:GREGORIAN
METHOD:PUBLISH
X-WR-CALNAME:Urdaburu
X-ORIGINAL-URL:https://urdaburu.eus/es/
X-WR-CALDESC:Events for Urdaburu
BEGIN:VTIMEZONE
TZID:Europe/Paris
BEGIN:DAYLIGHT
TZOFFSETFROM:+0100
TZOFFSETTO:+0200
TZNAME:CEST
DTSTART:20220327T010000
END:DAYLIGHT
BEGIN:STANDARD
TZOFFSETFROM:+0200
TZOFFSETTO:+0100
TZNAME:CET
DTSTART:20221030T010000
END:STANDARD
END:VTIMEZONE
BEGIN:VEVENT
DTSTART;TZID=Europe/Paris:20220205T060000
DTEND;TZID=Europe/Paris:20220205T190000
DTSTAMP:20260426T055652
CREATED:20220118T222724Z
LAST-MODIFIED:20220203T221041Z
UID:3768-1644040800-1644087600@urdaburu.eus
SUMMARY:Cursillo de esqui de fondo para escolares
DESCRIPTION:Cursillo de esqui de fondo dirigido a escolares. Será en la estación de esquí de Somport. La hora de salida será a las 6:00 de la mañana desde la alameda\, cuando nos confirmen el horario del cursillo en pista estableceremos la hora de salida. \nPodrán participar en el cursillo los menores nacidos entre 2009 y 2013 (ambos años incluidos)\, esto es\, desde LH3 hasta DBH2. Deberán ir acompañados de una persona adulta responsable (una única persona podrá ser responsable de hasta 3 menores). \nEl precio del cursillo es de 40€ para los menores y 50€ para las personas adultas. En el precio se incluye: el autobús\, el alquiler del material\, entrada a pistas (forfait) y dos horas de cursillo con monitores de Somport. En el caso de las personas adultas\, el cursillo es opcional\, el precio sin cursillo es de 25€. El alquiler del material  de las personas adultas podrá realizarse tanto en Urdaburu como en pistas\, sin embargo el de los menores únicamente allí. En caso de necesitar material indicarlo en el formulario en la sección ‘oharrak’. \nPlazo de inscripción: \n\n\nDel 18 al 25 de enero para personas socias de Urdaburu ( persona adulta o menor). \n\n\nDel 25 de enero al 1 de febrero para no socias. \n\n\nLa inscripción se ha de realizar a través del siguiente formulario (por ahora solo está abierta la inscripción para el día 5 de febrero\, más adelante abriremos la de marzo): \nFORMULARIO DE INSCRIPCION
URL:https://urdaburu.eus/es/event/cursillo-de-esqui-de-fondo-para-escolares-2/
CATEGORIES:Esqui
ATTACH;FMTTYPE=image/jpeg:/app/uploads/2022/01/Eski-ikastaroa-2022-Haurrak.jpg
END:VEVENT
END:VCALENDAR