BEGIN:VCALENDAR
VERSION:2.0
PRODID:-//Urdaburu - ECPv5.16.1//NONSGML v1.0//EN
CALSCALE:GREGORIAN
METHOD:PUBLISH
X-WR-CALNAME:Urdaburu
X-ORIGINAL-URL:https://urdaburu.eus/es/
X-WR-CALDESC:Eventos para Urdaburu
BEGIN:VTIMEZONE
TZID:Europe/Paris
BEGIN:DAYLIGHT
TZOFFSETFROM:+0100
TZOFFSETTO:+0200
TZNAME:CEST
DTSTART:20220327T010000
END:DAYLIGHT
BEGIN:STANDARD
TZOFFSETFROM:+0200
TZOFFSETTO:+0100
TZNAME:CET
DTSTART:20221030T010000
END:STANDARD
END:VTIMEZONE
BEGIN:VEVENT
DTSTART;TZID=Europe/Paris:20220129T070000
DTEND;TZID=Europe/Paris:20220130T200000
DTSTAMP:20260426T041214
CREATED:20220113T221555Z
LAST-MODIFIED:20220113T225233Z
UID:3723-1643439600-1643572800@urdaburu.eus
SUMMARY:Cursillo-Salida esquí de fondo
DESCRIPTION:El cursillo está dirigido a personas adultas siendo los monitores miembros de nuestro club. La persona que no esté interesada en el cursillo podrá esquiar por libre.  \nDependiendo de las condiciones de la nieve se irá a Pont D´Espagne o Val D´Azun. Se pernoctará en la zona de Lourdes\, en Aspin-en-Lavedan. \nEl precio\, con cursillo\, es de 85€\, y sin cursillo\, de 75€ (Forfait + autobús + alojamiento con desayuno). Las personas socias tendrán un descuento de 5€. \nPlazas limitadas (35). \nLa inscripción se ha de realizar a través del siguiente formulario: \n\n\nFormulario de inscripción. \n 
URL:https://urdaburu.eus/es/event/cursillo-salida-a-esquiar/
ATTACH;FMTTYPE=image/jpeg:/app/uploads/2022/01/Eski-ikastaroa-2022web.jpg
END:VEVENT
END:VCALENDAR