BEGIN:VCALENDAR
VERSION:2.0
PRODID:-//Urdaburu - ECPv5.16.1//NONSGML v1.0//EN
CALSCALE:GREGORIAN
METHOD:PUBLISH
X-WR-CALNAME:Urdaburu
X-ORIGINAL-URL:https://urdaburu.eus/es/
X-WR-CALDESC:Eventos para Urdaburu
BEGIN:VTIMEZONE
TZID:Europe/Paris
BEGIN:DAYLIGHT
TZOFFSETFROM:+0100
TZOFFSETTO:+0200
TZNAME:CEST
DTSTART:20210328T010000
END:DAYLIGHT
BEGIN:STANDARD
TZOFFSETFROM:+0200
TZOFFSETTO:+0100
TZNAME:CET
DTSTART:20211031T010000
END:STANDARD
END:VTIMEZONE
BEGIN:VEVENT
DTSTART;TZID=Europe/Paris:20211218T073000
DTEND;TZID=Europe/Paris:20211218T073000
DTSTAMP:20260426T023350
CREATED:20211207T193040Z
LAST-MODIFIED:20211207T202051Z
UID:3628-1639812600-1639812600@urdaburu.eus
SUMMARY:Vuelta a Urdazuri: 6ª etapa: Lizuniaga-Donibane Lohizune
DESCRIPTION:AUTOBUS: A las 7:30 en Errenteria (parada de Alameda) y a las 7:35 en Lintzirin (trasera del hotel).\nAPUNTARSE: Como de costumbre. Martes y jueves de 19:00 a 21:30\, en nuestro local o llamando al teléfono 943-527879. O rellenando este formulario web: https://sites.google.com/view/urdaburumendizaleelkartea/irteerak/2021-12-18-urdazubiko-bira \n\nDESCARGA DE ARCHIVOS\nEn la siguiente carpeta pública: https://onedrive.live.com/?id=C7432AF8BBF5BF78%212503&cid=C7432AF8BBF5BF78\nO también en la sección «Descargas» de esta web\, navegando de carpeta en carpeta: Descargas >Salidas > este grupo > este proyecto > esta etapa \nGOOGLE MAPS\n \n 
URL:https://urdaburu.eus/es/event/vuelta-a-urdazuri-6a-etapa-lizuniaga-donibane-lohizune/
CATEGORIES:Salidas montañeras
END:VEVENT
END:VCALENDAR