BEGIN:VCALENDAR
VERSION:2.0
PRODID:-//Urdaburu - ECPv5.16.1//NONSGML v1.0//EN
CALSCALE:GREGORIAN
METHOD:PUBLISH
X-WR-CALNAME:Urdaburu
X-ORIGINAL-URL:https://urdaburu.eus/es/
X-WR-CALDESC:Eventos para Urdaburu
BEGIN:VTIMEZONE
TZID:Europe/Paris
BEGIN:DAYLIGHT
TZOFFSETFROM:+0100
TZOFFSETTO:+0200
TZNAME:CEST
DTSTART:20260329T010000
END:DAYLIGHT
BEGIN:STANDARD
TZOFFSETFROM:+0200
TZOFFSETTO:+0100
TZNAME:CET
DTSTART:20261025T010000
END:STANDARD
END:VTIMEZONE
BEGIN:VEVENT
DTSTART;VALUE=DATE:20260613
DTEND;VALUE=DATE:20260615
DTSTAMP:20260421T062528
CREATED:20251230T152838Z
LAST-MODIFIED:20251230T152855Z
UID:7837-1781308800-1781481599@urdaburu.eus
SUMMARY:Marcha nórdica: Bilbao
DESCRIPTION:Marcha nórdica: Bilbao
URL:https://urdaburu.eus/es/event/marcha-nordica-bilbao/
CATEGORIES:Marcha Nórdica
END:VEVENT
END:VCALENDAR