BEGIN:VCALENDAR
VERSION:2.0
PRODID:-//Urdaburu - ECPv5.16.1//NONSGML v1.0//EN
CALSCALE:GREGORIAN
METHOD:PUBLISH
X-WR-CALNAME:Urdaburu
X-ORIGINAL-URL:https://urdaburu.eus/es/
X-WR-CALDESC:Eventos para Urdaburu
BEGIN:VTIMEZONE
TZID:Europe/Paris
BEGIN:DAYLIGHT
TZOFFSETFROM:+0100
TZOFFSETTO:+0200
TZNAME:CEST
DTSTART:20260329T010000
END:DAYLIGHT
BEGIN:STANDARD
TZOFFSETFROM:+0200
TZOFFSETTO:+0100
TZNAME:CET
DTSTART:20261025T010000
END:STANDARD
END:VTIMEZONE
BEGIN:VEVENT
DTSTART;VALUE=DATE:20260620
DTEND;VALUE=DATE:20260621
DTSTAMP:20260421T175016
CREATED:20251230T170255Z
LAST-MODIFIED:20251230T170255Z
UID:7982-1781913600-1781999999@urdaburu.eus
SUMMARY:Vuelta a Oarsoaldea: 6ª etapa: Embalse Añarbe-Listorreta
DESCRIPTION:Embalse Añarbe-Urdaburu (599)-Aizpitarte-Listorreta
URL:https://urdaburu.eus/es/event/vuelta-a-oarsoaldea-6a-etapa-embalse-anarbe-listorreta/
CATEGORIES:Salidas montañeras
END:VEVENT
END:VCALENDAR