BEGIN:VCALENDAR
VERSION:2.0
PRODID:-//Urdaburu - ECPv5.16.1//NONSGML v1.0//EN
CALSCALE:GREGORIAN
METHOD:PUBLISH
X-WR-CALNAME:Urdaburu
X-ORIGINAL-URL:https://urdaburu.eus/es/
X-WR-CALDESC:Events for Urdaburu
BEGIN:VTIMEZONE
TZID:Europe/Paris
BEGIN:DAYLIGHT
TZOFFSETFROM:+0100
TZOFFSETTO:+0200
TZNAME:CEST
DTSTART:20260329T010000
END:DAYLIGHT
BEGIN:STANDARD
TZOFFSETFROM:+0200
TZOFFSETTO:+0100
TZNAME:CET
DTSTART:20261025T010000
END:STANDARD
END:VTIMEZONE
BEGIN:VEVENT
DTSTART;VALUE=DATE:20260711
DTEND;VALUE=DATE:20260713
DTSTAMP:20260423T022407
CREATED:20251230T162408Z
LAST-MODIFIED:20251230T162408Z
UID:7928-1783728000-1783900799@urdaburu.eus
SUMMARY:Salida Pirineo: Salvaguardia (2738)
DESCRIPTION:11: Hospice de France-Port de Venasque-Salvaguardia (2738)-La Renclusa \n12: La Renclusa-Llanos del Hospital-Col de la Glere-Pic Sacroux (2676)-Hospice de France
URL:https://urdaburu.eus/es/event/salida-pirineo-salvaguardia-2738/
CATEGORIES:Salidas montañeras
END:VEVENT
END:VCALENDAR