BEGIN:VCALENDAR
VERSION:2.0
PRODID:-//URDABURU - ECPv5.16.1//NONSGML v1.0//EN
CALSCALE:GREGORIAN
METHOD:PUBLISH
X-WR-CALNAME:URDABURU
X-ORIGINAL-URL:https://urdaburu.eus
X-WR-CALDESC:Events for URDABURU
BEGIN:VTIMEZONE
TZID:Europe/Paris
BEGIN:DAYLIGHT
TZOFFSETFROM:+0100
TZOFFSETTO:+0200
TZNAME:CEST
DTSTART:20190331T010000
END:DAYLIGHT
BEGIN:STANDARD
TZOFFSETFROM:+0200
TZOFFSETTO:+0100
TZNAME:CET
DTSTART:20191027T010000
END:STANDARD
END:VTIMEZONE
BEGIN:VEVENT
DTSTART;VALUE=DATE:20190407
DTEND;VALUE=DATE:20190408
DTSTAMP:20260421T101355
CREATED:20190402T065409Z
LAST-MODIFIED:20190407T220540Z
UID:1349-1554595200-1554681599@urdaburu.eus
SUMMARY:Eskolartekoak: Gipuzkoako txoko miragarriak: Gazume - Ernio
DESCRIPTION:Eskolartekoak: Gipuzkoako txoko magikoak: Gazume – Ernio \nHemen ibilbidearen tracka eskuratu dezakezu:
URL:https://urdaburu.eus/event/eskolartekoak-gipuzkoako-txoko-magikoak-gazume-ernio/
CATEGORIES:Eskolartekoak
END:VEVENT
END:VCALENDAR