BEGIN:VCALENDAR
VERSION:2.0
PRODID:-//URDABURU - ECPv5.16.1//NONSGML v1.0//EN
CALSCALE:GREGORIAN
METHOD:PUBLISH
X-WR-CALNAME:URDABURU
X-ORIGINAL-URL:https://urdaburu.eus
X-WR-CALDESC:Events for URDABURU
BEGIN:VTIMEZONE
TZID:Europe/Paris
BEGIN:DAYLIGHT
TZOFFSETFROM:+0100
TZOFFSETTO:+0200
TZNAME:CEST
DTSTART:20190331T010000
END:DAYLIGHT
BEGIN:STANDARD
TZOFFSETFROM:+0200
TZOFFSETTO:+0100
TZNAME:CET
DTSTART:20191027T010000
END:STANDARD
END:VTIMEZONE
BEGIN:VEVENT
DTSTART;VALUE=DATE:20191109
DTEND;VALUE=DATE:20191110
DTSTAMP:20260421T131621
CREATED:20190913T081534Z
LAST-MODIFIED:20191110T123912Z
UID:1580-1573257600-1573343999@urdaburu.eus
SUMMARY:Rollerski
DESCRIPTION:ARDITURRIKO XIII ROLLERSKI LASTERKETA \nEstiloa: klasikoa \nLugar: Arditurriko bidegorria (Oiartzun) \nPrograma \n15:00 Dortsalak jasotzea Alcampoko parkinean (Oiartzungo merkataritza gunean). \n16:00 Helduen irteera\, parkinaren ondoko bidegorrian. \n16:05 Gazteen irteera Fortaleza jatetxetik (bidegorrian). \nGazteak (2006\,2007….) Helduak (2005\,2004….) \n17:00 Sari banaketa eta askaria. Helmugan bertan izango da. \nRollerski ligaren inguruko informazioa.
URL:https://urdaburu.eus/event/rollerski/
END:VEVENT
END:VCALENDAR