BEGIN:VCALENDAR
VERSION:2.0
PRODID:-//URDABURU - ECPv5.16.1//NONSGML v1.0//EN
CALSCALE:GREGORIAN
METHOD:PUBLISH
X-WR-CALNAME:URDABURU
X-ORIGINAL-URL:https://urdaburu.eus
X-WR-CALDESC:Events for URDABURU
BEGIN:VTIMEZONE
TZID:Europe/Paris
BEGIN:DAYLIGHT
TZOFFSETFROM:+0100
TZOFFSETTO:+0200
TZNAME:CEST
DTSTART:20210328T010000
END:DAYLIGHT
BEGIN:STANDARD
TZOFFSETFROM:+0200
TZOFFSETTO:+0100
TZNAME:CET
DTSTART:20211031T010000
END:STANDARD
END:VTIMEZONE
BEGIN:VEVENT
DTSTART;TZID=Europe/Paris:20211218T080000
DTEND;TZID=Europe/Paris:20211218T170000
DTSTAMP:20260426T004116
CREATED:20211218T202056Z
LAST-MODIFIED:20220113T192648Z
UID:3693-1639814400-1639846800@urdaburu.eus
SUMMARY:Urdazuriko biraren proiektuaren azken etapa
DESCRIPTION:2020ko martxoaren 13an pandemia hasierak zintzilik utzi zigun etapa burutu berri dugu\, Lizuniagatik Donibane Lohizunera\, 2021eko abenduaren 18an. Honela 6 etapako proiektu “labur” hau Urdabururen luzeenetako bat bihurtu delarik (26 hilabete). \nEguraldi bikaina izan dugu\, 34 partehartzaile eta ibilbide ederra Lizuniagatik Donibane Lohizunera\, Larrun mendia igoz. \nARGAZKIAK IKUSI:  HEMEN  \n************************* 2020ko martxoaren 13an pandemia hasierak zintzilik utzi zigun etapa burutu berri dugu\, 2021eko abenduaren 18an. Honela 6 etapako proiektu “labur” hau Urdabururen luzeenetako bat bihurtu delarik (26 hilabete). Eguraldi bikaina izan dugu\, 34 partehartzaile eta ibilbide ederra Lizuniagatik Donibane Lohizunera\, Larrun mendia igoz. ARGAZKIAK IKUSI:  HEMEN  \n\n \n \n \n @
URL:https://urdaburu.eus/event/urdazuriko-biraren-azken-etapa-burutu-dugu-lizuniagatik-donibane-lohizunera/
CATEGORIES:Mendi Irteerak
END:VEVENT
END:VCALENDAR